BEGIN:VCALENDAR
VERSION:2.0
PRODID:-//BioBridge Global - ECPv6.15.20//NONSGML v1.0//EN
CALSCALE:GREGORIAN
METHOD:PUBLISH
X-ORIGINAL-URL:https://biobridgeglobal.org
X-WR-CALDESC:Events for BioBridge Global
REFRESH-INTERVAL;VALUE=DURATION:PT1H
X-Robots-Tag:noindex
X-PUBLISHED-TTL:PT1H
BEGIN:VTIMEZONE
TZID:America/Chicago
BEGIN:DAYLIGHT
TZOFFSETFROM:-0600
TZOFFSETTO:-0500
TZNAME:CDT
DTSTART:20250309T080000
END:DAYLIGHT
BEGIN:STANDARD
TZOFFSETFROM:-0500
TZOFFSETTO:-0600
TZNAME:CST
DTSTART:20251102T070000
END:STANDARD
BEGIN:DAYLIGHT
TZOFFSETFROM:-0600
TZOFFSETTO:-0500
TZNAME:CDT
DTSTART:20260308T080000
END:DAYLIGHT
BEGIN:STANDARD
TZOFFSETFROM:-0500
TZOFFSETTO:-0600
TZNAME:CST
DTSTART:20261101T070000
END:STANDARD
BEGIN:DAYLIGHT
TZOFFSETFROM:-0600
TZOFFSETTO:-0500
TZNAME:CDT
DTSTART:20270314T080000
END:DAYLIGHT
BEGIN:STANDARD
TZOFFSETFROM:-0500
TZOFFSETTO:-0600
TZNAME:CST
DTSTART:20271107T070000
END:STANDARD
END:VTIMEZONE
BEGIN:VEVENT
DTSTART;TZID=America/Chicago:20260322T090000
DTEND;TZID=America/Chicago:20260322T170000
DTSTAMP:20260423T070617
CREATED:20260220T205815Z
LAST-MODIFIED:20260317T151251Z
UID:30905-1774170000-1774198800@biobridgeglobal.org
SUMMARY:The Wash Tub Schertz
DESCRIPTION:
URL:https://biobridgeglobal.org/event/the-wash-tub-schertz-3/
LOCATION:The Wash Tub: Schertz\, 6011 FM 3009\, Schertz\, TX\, 78154\, United States of America
CATEGORIES:Blood Drive,Wash Tub
ATTACH;FMTTYPE=image/jpeg:https://biobridgeglobal.org/wp-content/uploads/2026/02/WEB-EVENT-2603-TSHIRT-TOTEBAG-536x200-1.jpg
GEO:29.6024661;-98.2793156
X-APPLE-STRUCTURED-LOCATION;VALUE=URI;X-ADDRESS=The Wash Tub: Schertz 6011 FM 3009 Schertz TX 78154 United States of America;X-APPLE-RADIUS=500;X-TITLE=6011 FM 3009:geo:-98.2793156,29.6024661
END:VEVENT
END:VCALENDAR