BEGIN:VCALENDAR
VERSION:2.0
PRODID:-//BioBridge Global - ECPv6.15.20//NONSGML v1.0//EN
CALSCALE:GREGORIAN
METHOD:PUBLISH
X-WR-CALNAME:BioBridge Global
X-ORIGINAL-URL:https://biobridgeglobal.org
X-WR-CALDESC:Events for BioBridge Global
REFRESH-INTERVAL;VALUE=DURATION:PT1H
X-Robots-Tag:noindex
X-PUBLISHED-TTL:PT1H
BEGIN:VTIMEZONE
TZID:America/Chicago
BEGIN:DAYLIGHT
TZOFFSETFROM:-0600
TZOFFSETTO:-0500
TZNAME:CDT
DTSTART:20250309T080000
END:DAYLIGHT
BEGIN:STANDARD
TZOFFSETFROM:-0500
TZOFFSETTO:-0600
TZNAME:CST
DTSTART:20251102T070000
END:STANDARD
BEGIN:DAYLIGHT
TZOFFSETFROM:-0600
TZOFFSETTO:-0500
TZNAME:CDT
DTSTART:20260308T080000
END:DAYLIGHT
BEGIN:STANDARD
TZOFFSETFROM:-0500
TZOFFSETTO:-0600
TZNAME:CST
DTSTART:20261101T070000
END:STANDARD
BEGIN:DAYLIGHT
TZOFFSETFROM:-0600
TZOFFSETTO:-0500
TZNAME:CDT
DTSTART:20270314T080000
END:DAYLIGHT
BEGIN:STANDARD
TZOFFSETFROM:-0500
TZOFFSETTO:-0600
TZNAME:CST
DTSTART:20271107T070000
END:STANDARD
END:VTIMEZONE
BEGIN:VEVENT
DTSTART;TZID=America/Chicago:20260327T090000
DTEND;TZID=America/Chicago:20260327T160000
DTSTAMP:20260422T144300
CREATED:20260220T205806Z
LAST-MODIFIED:20260317T151409Z
UID:30897-1774602000-1774627200@biobridgeglobal.org
SUMMARY:The Wash Tub Blanco Rd
DESCRIPTION:
URL:https://biobridgeglobal.org/event/the-wash-tub-blanco-rd-3/
LOCATION:The Wash Tub: Blanco Rd\, 17780 Blanco Road\, San Antonio\, TX\, 78232\, United States
CATEGORIES:Blood Drive,Wash Tub
ATTACH;FMTTYPE=image/jpeg:https://biobridgeglobal.org/wp-content/uploads/2026/02/WEB-EVENT-2603-TSHIRT-TOTEBAG-536x200-1.jpg
GEO:29.604165;-98.507514
X-APPLE-STRUCTURED-LOCATION;VALUE=URI;X-ADDRESS=The Wash Tub: Blanco Rd 17780 Blanco Road San Antonio TX 78232 United States;X-APPLE-RADIUS=500;X-TITLE=17780 Blanco Road:geo:-98.507514,29.604165
END:VEVENT
BEGIN:VEVENT
DTSTART;TZID=America/Chicago:20260327T090000
DTEND;TZID=America/Chicago:20260327T170000
DTSTAMP:20260422T144300
CREATED:20260220T205815Z
LAST-MODIFIED:20260316T211241Z
UID:30906-1774602000-1774630800@biobridgeglobal.org
SUMMARY:The Wash Tub Sunset
DESCRIPTION:
URL:https://biobridgeglobal.org/event/the-wash-tub-sunset-3/
LOCATION:The Wash Tub: Sunset\, 323 W Sunset\, San Antonio\, TX\, 78209\, United States
CATEGORIES:Blood Drive,Wash Tub
ATTACH;FMTTYPE=image/jpeg:https://biobridgeglobal.org/wp-content/uploads/2026/02/WEB-EVENT-2603-TSHIRT-TOTEBAG-536x200-1.jpg
GEO:29.507819;-98.471819
X-APPLE-STRUCTURED-LOCATION;VALUE=URI;X-ADDRESS=The Wash Tub: Sunset 323 W Sunset San Antonio TX 78209 United States;X-APPLE-RADIUS=500;X-TITLE=323 W Sunset:geo:-98.471819,29.507819
END:VEVENT
BEGIN:VEVENT
DTSTART;TZID=America/Chicago:20260327T100000
DTEND;TZID=America/Chicago:20260327T150000
DTSTAMP:20260422T144300
CREATED:20260220T210616Z
LAST-MODIFIED:20260317T130815Z
UID:30916-1774605600-1774623600@biobridgeglobal.org
SUMMARY:H-E-B Port Lavaca
DESCRIPTION:
URL:https://biobridgeglobal.org/event/h-e-b-port-lavaca/
LOCATION:H-E-B Port Lavaca\, 101 Calhoun Plaza\, Port Lavaca\, TX\, 77979\, United States
CATEGORIES:Blood Drive,H-E-B
ATTACH;FMTTYPE=image/jpeg:https://biobridgeglobal.org/wp-content/uploads/2026/02/WEB-EVENT-2603-1PINT-2SAVE-3LIVES-536x200-1.jpg
GEO:28.6264255;-96.6368597
X-APPLE-STRUCTURED-LOCATION;VALUE=URI;X-ADDRESS=H-E-B Port Lavaca 101 Calhoun Plaza Port Lavaca TX 77979 United States;X-APPLE-RADIUS=500;X-TITLE=101 Calhoun Plaza:geo:-96.6368597,28.6264255
END:VEVENT
END:VCALENDAR