BEGIN:VCALENDAR
VERSION:2.0
PRODID:-//BioBridge Global - ECPv6.15.20//NONSGML v1.0//EN
CALSCALE:GREGORIAN
METHOD:PUBLISH
X-ORIGINAL-URL:https://biobridgeglobal.org
X-WR-CALDESC:Events for BioBridge Global
REFRESH-INTERVAL;VALUE=DURATION:PT1H
X-Robots-Tag:noindex
X-PUBLISHED-TTL:PT1H
BEGIN:VTIMEZONE
TZID:America/Chicago
BEGIN:DAYLIGHT
TZOFFSETFROM:-0600
TZOFFSETTO:-0500
TZNAME:CDT
DTSTART:20250309T080000
END:DAYLIGHT
BEGIN:STANDARD
TZOFFSETFROM:-0500
TZOFFSETTO:-0600
TZNAME:CST
DTSTART:20251102T070000
END:STANDARD
BEGIN:DAYLIGHT
TZOFFSETFROM:-0600
TZOFFSETTO:-0500
TZNAME:CDT
DTSTART:20260308T080000
END:DAYLIGHT
BEGIN:STANDARD
TZOFFSETFROM:-0500
TZOFFSETTO:-0600
TZNAME:CST
DTSTART:20261101T070000
END:STANDARD
BEGIN:DAYLIGHT
TZOFFSETFROM:-0600
TZOFFSETTO:-0500
TZNAME:CDT
DTSTART:20270314T080000
END:DAYLIGHT
BEGIN:STANDARD
TZOFFSETFROM:-0500
TZOFFSETTO:-0600
TZNAME:CST
DTSTART:20271107T070000
END:STANDARD
END:VTIMEZONE
BEGIN:VEVENT
DTSTART;TZID=America/Chicago:20260329T090000
DTEND;TZID=America/Chicago:20260329T140000
DTSTAMP:20260424T062621
CREATED:20260320T213838Z
LAST-MODIFIED:20260320T214013Z
UID:31249-1774774800-1774792800@biobridgeglobal.org
SUMMARY:The Wash Tub: Military
DESCRIPTION:
URL:https://biobridgeglobal.org/event/the-wash-tub-military-3/
LOCATION:TX
CATEGORIES:Wash Tub
ATTACH;FMTTYPE=image/jpeg:https://biobridgeglobal.org/wp-content/uploads/2026/02/WEB-EVENT-2603-TSHIRT-TOTEBAG-536x200-1.jpg
END:VEVENT
END:VCALENDAR