BEGIN:VCALENDAR
VERSION:2.0
PRODID:-//BioBridge Global - ECPv6.15.20//NONSGML v1.0//EN
CALSCALE:GREGORIAN
METHOD:PUBLISH
X-WR-CALNAME:BioBridge Global
X-ORIGINAL-URL:https://biobridgeglobal.org
X-WR-CALDESC:Events for BioBridge Global
REFRESH-INTERVAL;VALUE=DURATION:PT1H
X-Robots-Tag:noindex
X-PUBLISHED-TTL:PT1H
BEGIN:VTIMEZONE
TZID:America/Chicago
BEGIN:DAYLIGHT
TZOFFSETFROM:-0600
TZOFFSETTO:-0500
TZNAME:CDT
DTSTART:20250309T080000
END:DAYLIGHT
BEGIN:STANDARD
TZOFFSETFROM:-0500
TZOFFSETTO:-0600
TZNAME:CST
DTSTART:20251102T070000
END:STANDARD
BEGIN:DAYLIGHT
TZOFFSETFROM:-0600
TZOFFSETTO:-0500
TZNAME:CDT
DTSTART:20260308T080000
END:DAYLIGHT
BEGIN:STANDARD
TZOFFSETFROM:-0500
TZOFFSETTO:-0600
TZNAME:CST
DTSTART:20261101T070000
END:STANDARD
BEGIN:DAYLIGHT
TZOFFSETFROM:-0600
TZOFFSETTO:-0500
TZNAME:CDT
DTSTART:20270314T080000
END:DAYLIGHT
BEGIN:STANDARD
TZOFFSETFROM:-0500
TZOFFSETTO:-0600
TZNAME:CST
DTSTART:20271107T070000
END:STANDARD
END:VTIMEZONE
BEGIN:VEVENT
DTSTART;TZID=America/Chicago:20260522T100000
DTEND;TZID=America/Chicago:20260522T150000
DTSTAMP:20260423T075536
CREATED:20260414T144559Z
LAST-MODIFIED:20260414T144600Z
UID:31421-1779444000-1779462000@biobridgeglobal.org
SUMMARY:H-E-B: Cuero
DESCRIPTION:
URL:https://biobridgeglobal.org/event/h-e-b-cuero/
LOCATION:H-E-B Cuero\, 909 E Broadway\, Cuero\, TX\, 77954\, United States
CATEGORIES:Blood Drive,HEB20
ATTACH;FMTTYPE=image/jpeg:https://biobridgeglobal.org/wp-content/uploads/2026/04/WEB-EVENT-2605-BLUE-TOTE-BAG-536x200-1.jpg
GEO:29.0896192;-97.2806287
X-APPLE-STRUCTURED-LOCATION;VALUE=URI;X-ADDRESS=H-E-B Cuero 909 E Broadway Cuero TX 77954 United States;X-APPLE-RADIUS=500;X-TITLE=909 E Broadway:geo:-97.2806287,29.0896192
END:VEVENT
END:VCALENDAR