BEGIN:VCALENDAR
VERSION:2.0
PRODID:-//BioBridge Global - ECPv6.15.20//NONSGML v1.0//EN
CALSCALE:GREGORIAN
METHOD:PUBLISH
X-WR-CALNAME:BioBridge Global
X-ORIGINAL-URL:https://biobridgeglobal.org
X-WR-CALDESC:Events for BioBridge Global
REFRESH-INTERVAL;VALUE=DURATION:PT1H
X-Robots-Tag:noindex
X-PUBLISHED-TTL:PT1H
BEGIN:VTIMEZONE
TZID:America/Chicago
BEGIN:DAYLIGHT
TZOFFSETFROM:-0600
TZOFFSETTO:-0500
TZNAME:CDT
DTSTART:20250309T080000
END:DAYLIGHT
BEGIN:STANDARD
TZOFFSETFROM:-0500
TZOFFSETTO:-0600
TZNAME:CST
DTSTART:20251102T070000
END:STANDARD
BEGIN:DAYLIGHT
TZOFFSETFROM:-0600
TZOFFSETTO:-0500
TZNAME:CDT
DTSTART:20260308T080000
END:DAYLIGHT
BEGIN:STANDARD
TZOFFSETFROM:-0500
TZOFFSETTO:-0600
TZNAME:CST
DTSTART:20261101T070000
END:STANDARD
BEGIN:DAYLIGHT
TZOFFSETFROM:-0600
TZOFFSETTO:-0500
TZNAME:CDT
DTSTART:20270314T080000
END:DAYLIGHT
BEGIN:STANDARD
TZOFFSETFROM:-0500
TZOFFSETTO:-0600
TZNAME:CST
DTSTART:20271107T070000
END:STANDARD
END:VTIMEZONE
BEGIN:VEVENT
DTSTART;TZID=America/Chicago:20260131T120000
DTEND;TZID=America/Chicago:20260131T170000
DTSTAMP:20260421T081624
CREATED:20260122T165621Z
LAST-MODIFIED:20260122T165623Z
UID:30498-1769860800-1769878800@biobridgeglobal.org
SUMMARY:Santikos Entertainment: Cibolo
DESCRIPTION:
URL:https://biobridgeglobal.org/event/santikos-entertainment-cibolo-10/
LOCATION:Santikos Entertainment: Cibolo
CATEGORIES:Blood Drive,Santikos Bundle
ATTACH;FMTTYPE=image/jpeg:https://biobridgeglobal.org/wp-content/uploads/2025/07/WEB-EVENT-2507-SANTIKOS-BUNDLE-536x200-1.jpg
END:VEVENT
BEGIN:VEVENT
DTSTART;TZID=America/Chicago:20260131T120000
DTEND;TZID=America/Chicago:20260131T170000
DTSTAMP:20260421T081624
CREATED:20260122T165621Z
LAST-MODIFIED:20260122T165624Z
UID:30499-1769860800-1769878800@biobridgeglobal.org
SUMMARY:Santikos Entertainment: Palladium Theater
DESCRIPTION:
URL:https://biobridgeglobal.org/event/santikos-entertainment-palladium-theater-2/
LOCATION:Santikos Entertainment: Palladium Theater\, 17703 W Interstate 10 Frontage Rd\, San Antonio\, TX\, 78257\, United States of America
CATEGORIES:Blood Drive,Santikos Bundle
ATTACH;FMTTYPE=image/jpeg:https://biobridgeglobal.org/wp-content/uploads/2025/07/WEB-EVENT-2507-SANTIKOS-BUNDLE-536x200-1.jpg
GEO:29.6081889;-98.5989761
X-APPLE-STRUCTURED-LOCATION;VALUE=URI;X-ADDRESS=Santikos Entertainment: Palladium Theater 17703 W Interstate 10 Frontage Rd San Antonio TX 78257 United States of America;X-APPLE-RADIUS=500;X-TITLE=17703 W Interstate 10 Frontage Rd:geo:-98.5989761,29.6081889
END:VEVENT
BEGIN:VEVENT
DTSTART;TZID=America/Chicago:20260130T110000
DTEND;TZID=America/Chicago:20260130T160000
DTSTAMP:20260421T081624
CREATED:20260128T165452Z
LAST-MODIFIED:20260128T165452Z
UID:30594-1769770800-1769788800@biobridgeglobal.org
SUMMARY:Rudy's BBQ - Nakoma
DESCRIPTION:
URL:https://biobridgeglobal.org/event/rudys-bbq-nakoma-4/
LOCATION:Rudy’s BBQ – Nakoma\, 327 E. Nakoma\, San Antonio\, TX\, 78216\, United States
CATEGORIES:Blood Drive,Rudys
GEO:29.5505226;-98.4901123
X-APPLE-STRUCTURED-LOCATION;VALUE=URI;X-ADDRESS=Rudy’s BBQ – Nakoma 327 E. Nakoma San Antonio TX 78216 United States;X-APPLE-RADIUS=500;X-TITLE=327 E. Nakoma:geo:-98.4901123,29.5505226
END:VEVENT
BEGIN:VEVENT
DTSTART;TZID=America/Chicago:20260130T110000
DTEND;TZID=America/Chicago:20260130T160000
DTSTAMP:20260421T081624
CREATED:20260128T165452Z
LAST-MODIFIED:20260128T165452Z
UID:30595-1769770800-1769788800@biobridgeglobal.org
SUMMARY:Rudy's BBQ - Selma
DESCRIPTION:
URL:https://biobridgeglobal.org/event/rudys-bbq-selma-6/
LOCATION:Rudy’s BBQ – Selma\, 15560 Interstate 35 N.\, San Antonio\, TX\, 78154\, United States
CATEGORIES:Blood Drive,Rudys
GEO:29.5809551;-98.3108709
X-APPLE-STRUCTURED-LOCATION;VALUE=URI;X-ADDRESS=Rudy’s BBQ – Selma 15560 Interstate 35 N. San Antonio TX 78154 United States;X-APPLE-RADIUS=500;X-TITLE=15560 Interstate 35 N.:geo:-98.3108709,29.5809551
END:VEVENT
END:VCALENDAR