BEGIN:VCALENDAR
VERSION:2.0
PRODID:-//BioBridge Global - ECPv6.15.20//NONSGML v1.0//EN
CALSCALE:GREGORIAN
METHOD:PUBLISH
X-ORIGINAL-URL:https://biobridgeglobal.org
X-WR-CALDESC:Events for BioBridge Global
REFRESH-INTERVAL;VALUE=DURATION:PT1H
X-Robots-Tag:noindex
X-PUBLISHED-TTL:PT1H
BEGIN:VTIMEZONE
TZID:America/Chicago
BEGIN:DAYLIGHT
TZOFFSETFROM:-0600
TZOFFSETTO:-0500
TZNAME:CDT
DTSTART:20250309T080000
END:DAYLIGHT
BEGIN:STANDARD
TZOFFSETFROM:-0500
TZOFFSETTO:-0600
TZNAME:CST
DTSTART:20251102T070000
END:STANDARD
BEGIN:DAYLIGHT
TZOFFSETFROM:-0600
TZOFFSETTO:-0500
TZNAME:CDT
DTSTART:20260308T080000
END:DAYLIGHT
BEGIN:STANDARD
TZOFFSETFROM:-0500
TZOFFSETTO:-0600
TZNAME:CST
DTSTART:20261101T070000
END:STANDARD
BEGIN:DAYLIGHT
TZOFFSETFROM:-0600
TZOFFSETTO:-0500
TZNAME:CDT
DTSTART:20270314T080000
END:DAYLIGHT
BEGIN:STANDARD
TZOFFSETFROM:-0500
TZOFFSETTO:-0600
TZNAME:CST
DTSTART:20271107T070000
END:STANDARD
END:VTIMEZONE
BEGIN:VEVENT
DTSTART;TZID=America/Chicago:20260524T090000
DTEND;TZID=America/Chicago:20260524T170000
DTSTAMP:20260423T000659
CREATED:20260414T144612Z
LAST-MODIFIED:20260414T144613Z
UID:31436-1779613200-1779642000@biobridgeglobal.org
SUMMARY:The Wash Tub: Helotes
DESCRIPTION:
URL:https://biobridgeglobal.org/event/the-wash-tub-helotes/
LOCATION:The Wash Tub: Helotes\, Helotes\, TX\, 78023\, United States of America
CATEGORIES:Blood Drive,Wash Tub
ATTACH;FMTTYPE=image/jpeg:https://biobridgeglobal.org/wp-content/uploads/2026/04/WEB-EVENT-2605-BLUE-TOTE-BAG-536x200-1.jpg
GEO:29.560129;-98.675683
END:VEVENT
BEGIN:VEVENT
DTSTART;TZID=America/Chicago:20260525T090000
DTEND;TZID=America/Chicago:20260525T120000
DTSTAMP:20260423T000659
CREATED:20260414T144559Z
LAST-MODIFIED:20260414T144601Z
UID:31422-1779699600-1779710400@biobridgeglobal.org
SUMMARY:H-E-B: #785 Cibolo
DESCRIPTION:
URL:https://biobridgeglobal.org/event/h-e-b-785-cibolo/
LOCATION:H-E-B Cibolo: #785\, 850 FM 1103 Suite 100\, Cibolo\, TX\, 78108\, United States
CATEGORIES:Blood Drive,HEBSantikos
ATTACH;FMTTYPE=image/jpeg:https://biobridgeglobal.org/wp-content/uploads/2026/04/WEB-EVENT-2605-BLUE-TOTE-BAG-536x200-1.jpg
GEO:29.5691808;-98.231002
X-APPLE-STRUCTURED-LOCATION;VALUE=URI;X-ADDRESS=H-E-B Cibolo: #785 850 FM 1103 Suite 100 Cibolo TX 78108 United States;X-APPLE-RADIUS=500;X-TITLE=850 FM 1103 Suite 100:geo:-98.231002,29.5691808
END:VEVENT
BEGIN:VEVENT
DTSTART;TZID=America/Chicago:20260525T090000
DTEND;TZID=America/Chicago:20260525T140000
DTSTAMP:20260423T000659
CREATED:20260414T144602Z
LAST-MODIFIED:20260414T144602Z
UID:31423-1779699600-1779717600@biobridgeglobal.org
SUMMARY:H-E-B: #411 Pleasanton
DESCRIPTION:
URL:https://biobridgeglobal.org/event/h-e-b-411-pleasanton/
LOCATION:H-E-B: #411 Pleasanton
CATEGORIES:Blood Drive,HEB20
ATTACH;FMTTYPE=image/jpeg:https://biobridgeglobal.org/wp-content/uploads/2026/04/WEB-EVENT-2605-BLUE-TOTE-BAG-536x200-1.jpg
END:VEVENT
BEGIN:VEVENT
DTSTART;TZID=America/Chicago:20260525T090000
DTEND;TZID=America/Chicago:20260525T140000
DTSTAMP:20260423T000659
CREATED:20260414T144602Z
LAST-MODIFIED:20260414T144603Z
UID:31425-1779699600-1779717600@biobridgeglobal.org
SUMMARY:H-E-B: #561 Fredericksburg
DESCRIPTION:
URL:https://biobridgeglobal.org/event/h-e-b-561-fredericksburg-2/
LOCATION:H-E-B: #561 Fredericksburg
CATEGORIES:Blood Drive,HEB20
ATTACH;FMTTYPE=image/jpeg:https://biobridgeglobal.org/wp-content/uploads/2026/04/WEB-EVENT-2605-BLUE-TOTE-BAG-536x200-1.jpg
END:VEVENT
BEGIN:VEVENT
DTSTART;TZID=America/Chicago:20260525T090000
DTEND;TZID=America/Chicago:20260525T120000
DTSTAMP:20260423T000659
CREATED:20260414T144604Z
LAST-MODIFIED:20260414T144604Z
UID:31426-1779699600-1779710400@biobridgeglobal.org
SUMMARY:H-E-B: La Vernia
DESCRIPTION:
URL:https://biobridgeglobal.org/event/h-e-b-la-vernia/
LOCATION:H-E-B: La Vernia
CATEGORIES:Blood Drive,HEB20
ATTACH;FMTTYPE=image/jpeg:https://biobridgeglobal.org/wp-content/uploads/2026/04/WEB-EVENT-2605-BLUE-TOTE-BAG-536x200-1.jpg
END:VEVENT
BEGIN:VEVENT
DTSTART;TZID=America/Chicago:20260525T090000
DTEND;TZID=America/Chicago:20260525T140000
DTSTAMP:20260423T000659
CREATED:20260414T144616Z
LAST-MODIFIED:20260414T144617Z
UID:31439-1779699600-1779717600@biobridgeglobal.org
SUMMARY:The Wash Tub: Military
DESCRIPTION:
URL:https://biobridgeglobal.org/event/the-wash-tub-military/
LOCATION:The Wash Tub: Military\, 3307 SE Military Dr.\, San Antonio\, TX\, 78223\, United States
CATEGORIES:Blood Drive,Wash Tub
ATTACH;FMTTYPE=image/jpeg:https://biobridgeglobal.org/wp-content/uploads/2026/04/WEB-EVENT-2605-BLUE-TOTE-BAG-536x200-1.jpg
GEO:29.352372;-98.433093
X-APPLE-STRUCTURED-LOCATION;VALUE=URI;X-ADDRESS=The Wash Tub: Military 3307 SE Military Dr. San Antonio TX 78223 United States;X-APPLE-RADIUS=500;X-TITLE=3307 SE Military Dr.:geo:-98.433093,29.352372
END:VEVENT
BEGIN:VEVENT
DTSTART;TZID=America/Chicago:20260525T090000
DTEND;TZID=America/Chicago:20260525T170000
DTSTAMP:20260423T000659
CREATED:20260414T144616Z
LAST-MODIFIED:20260414T144616Z
UID:31438-1779699600-1779728400@biobridgeglobal.org
SUMMARY:The Wash Tub: Kerrville
DESCRIPTION:
URL:https://biobridgeglobal.org/event/the-wash-tub-kerrville/
LOCATION:The Wash Tub: Kerrville\, Kerrville\, TX\, 78028\, United States of America
CATEGORIES:Blood Drive,Wash Tub
ATTACH;FMTTYPE=image/jpeg:https://biobridgeglobal.org/wp-content/uploads/2026/04/WEB-EVENT-2605-BLUE-TOTE-BAG-536x200-1.jpg
GEO:30.045878;-99.146333
END:VEVENT
BEGIN:VEVENT
DTSTART;TZID=America/Chicago:20260525T140000
DTEND;TZID=America/Chicago:20260525T170000
DTSTAMP:20260423T000659
CREATED:20260414T144602Z
LAST-MODIFIED:20260414T144603Z
UID:31424-1779717600-1779728400@biobridgeglobal.org
SUMMARY:H-E-B: #415 Schertz
DESCRIPTION:
URL:https://biobridgeglobal.org/event/h-e-b-415-schertz/
LOCATION:H-E-B: #415 Schertz
CATEGORIES:Blood Drive,HEBSantikos
ATTACH;FMTTYPE=image/jpeg:https://biobridgeglobal.org/wp-content/uploads/2026/04/WEB-EVENT-2605-BLUE-TOTE-BAG-536x200-1.jpg
END:VEVENT
BEGIN:VEVENT
DTSTART;TZID=America/Chicago:20260525T143000
DTEND;TZID=America/Chicago:20260525T173000
DTSTAMP:20260423T000659
CREATED:20260414T144604Z
LAST-MODIFIED:20260414T144605Z
UID:31427-1779719400-1779730200@biobridgeglobal.org
SUMMARY:H-E-B: Seguin #716
DESCRIPTION:
URL:https://biobridgeglobal.org/event/h-e-b-seguin-716/
LOCATION:H-E-B: Seguin #716
CATEGORIES:Blood Drive,HEB20
ATTACH;FMTTYPE=image/jpeg:https://biobridgeglobal.org/wp-content/uploads/2026/04/WEB-EVENT-2605-BLUE-TOTE-BAG-536x200-1.jpg
END:VEVENT
BEGIN:VEVENT
DTSTART;TZID=America/Chicago:20260527T080000
DTEND;TZID=America/Chicago:20260527T170000
DTSTAMP:20260423T000659
CREATED:20260422T200147Z
LAST-MODIFIED:20260422T202322Z
UID:31521-1779868800-1779901200@biobridgeglobal.org
SUMMARY:Cares to Cures Breakfast
DESCRIPTION:Join us to learn more about BioBridge Global and its evolution from providing resources for patient care to one that advances patient care by driving innovation for the development of new cures. Hosted by The Blood & Tissue Center Foundation.
URL:https://biobridgeglobal.org/event/cares-to-cures-breakfast/
LOCATION:Donor Pavilion\, 6211 IH-10 West at First Park Ten Blvd.\, San Antonio\, TX\, 78201\, United States
CATEGORIES:BioBridge Global,Foundation
ATTACH;FMTTYPE=image/jpeg:https://biobridgeglobal.org/wp-content/uploads/2026/04/Cares-to-Cures-Breakfast-Banner.jpg
GEO:29.4866008;-98.5394872
X-APPLE-STRUCTURED-LOCATION;VALUE=URI;X-ADDRESS=Donor Pavilion 6211 IH-10 West at First Park Ten Blvd. San Antonio TX 78201 United States;X-APPLE-RADIUS=500;X-TITLE=6211 IH-10 West at First Park Ten Blvd.:geo:-98.5394872,29.4866008
END:VEVENT
BEGIN:VEVENT
DTSTART;TZID=America/Chicago:20260527T090000
DTEND;TZID=America/Chicago:20260527T140000
DTSTAMP:20260423T000659
CREATED:20260416T205823Z
LAST-MODIFIED:20260416T205823Z
UID:31486-1779872400-1779890400@biobridgeglobal.org
SUMMARY:UMC Business & Technology
DESCRIPTION:
URL:https://biobridgeglobal.org/event/umc-business-technology/
LOCATION:UMC Business & Technology\, Lubbock\, TX\, 79416\, United States of America
CATEGORIES:UMC
ATTACH;FMTTYPE=image/jpeg:https://biobridgeglobal.org/wp-content/uploads/2026/04/WEB-EVENT-2605-BLUE-TOTE-BAG-536x200-1.jpg
GEO:33.602475;-101.925446
END:VEVENT
BEGIN:VEVENT
DTSTART;TZID=America/Chicago:20260527T090000
DTEND;TZID=America/Chicago:20260527T140000
DTSTAMP:20260423T000659
CREATED:20260416T210137Z
LAST-MODIFIED:20260416T210137Z
UID:31489-1779872400-1779890400@biobridgeglobal.org
SUMMARY:UMC Health & Wellness
DESCRIPTION:
URL:https://biobridgeglobal.org/event/umc-health-wellness/
LOCATION:UMC Health & Wellness Hospital\, 11011 Slide Rd\, Lubbock\, TX\, 79424\, United States
CATEGORIES:UMC
ATTACH;FMTTYPE=image/jpeg:https://biobridgeglobal.org/wp-content/uploads/2026/04/WEB-EVENT-2605-BLUE-TOTE-BAG-536x200-1.jpg
GEO:33.493407;-101.921969
X-APPLE-STRUCTURED-LOCATION;VALUE=URI;X-ADDRESS=UMC Health & Wellness Hospital 11011 Slide Rd Lubbock TX 79424 United States;X-APPLE-RADIUS=500;X-TITLE=11011 Slide Rd:geo:-101.921969,33.493407
END:VEVENT
BEGIN:VEVENT
DTSTART;TZID=America/Chicago:20260528T080000
DTEND;TZID=America/Chicago:20260528T160000
DTSTAMP:20260423T000659
CREATED:20260416T210334Z
LAST-MODIFIED:20260416T210334Z
UID:31492-1779955200-1779984000@biobridgeglobal.org
SUMMARY:UMC Lubbock
DESCRIPTION:
URL:https://biobridgeglobal.org/event/umc-lubbock/
LOCATION:UMC Lubbock\, Lubbock\, TX\, 79415\, United States of America
CATEGORIES:UMC
ATTACH;FMTTYPE=image/jpeg:https://biobridgeglobal.org/wp-content/uploads/2026/04/WEB-EVENT-2605-BLUE-TOTE-BAG-536x200-1.jpg
GEO:33.675714;-101.906553
END:VEVENT
BEGIN:VEVENT
DTSTART;TZID=America/Chicago:20260529T080000
DTEND;TZID=America/Chicago:20260529T160000
DTSTAMP:20260423T000659
CREATED:20260416T210512Z
LAST-MODIFIED:20260416T210512Z
UID:31495-1780041600-1780070400@biobridgeglobal.org
SUMMARY:UMC Lubbock
DESCRIPTION:
URL:https://biobridgeglobal.org/event/umc-lubbock-2/
LOCATION:UMC Lubbock\, Lubbock\, TX\, 79415\, United States of America
CATEGORIES:UMC
ATTACH;FMTTYPE=image/jpeg:https://biobridgeglobal.org/wp-content/uploads/2026/04/WEB-EVENT-2605-BLUE-TOTE-BAG-536x200-1.jpg
GEO:33.675714;-101.906553
END:VEVENT
BEGIN:VEVENT
DTSTART;TZID=America/Chicago:20260530T100000
DTEND;TZID=America/Chicago:20260530T150000
DTSTAMP:20260423T000659
CREATED:20260414T144604Z
LAST-MODIFIED:20260414T144605Z
UID:31428-1780135200-1780153200@biobridgeglobal.org
SUMMARY:H-E-B: Edna
DESCRIPTION:
URL:https://biobridgeglobal.org/event/h-e-b-edna-2/
LOCATION:H-E-B Edna
CATEGORIES:Blood Drive,H-E-B
ATTACH;FMTTYPE=image/jpeg:https://biobridgeglobal.org/wp-content/uploads/2026/04/WEB-EVENT-2605-BLUE-TOTE-BAG-536x200-1.jpg
END:VEVENT
BEGIN:VEVENT
DTSTART;TZID=America/Chicago:20260716T090000
DTEND;TZID=America/Chicago:20260716T140000
DTSTAMP:20260423T000659
CREATED:20260325T160716Z
LAST-MODIFIED:20260402T180313Z
UID:31294-1784192400-1784210400@biobridgeglobal.org
SUMMARY:H-E-B Arsenal : Bloodmobile
DESCRIPTION:
URL:https://biobridgeglobal.org/event/h-e-b-arsenal-bloodmobile-2/
LOCATION:H-E-B Arsenal\, 646 S. Flores St.\, San Antonio\, TX\, 78204\, United States
CATEGORIES:Blood Drive,HEBArsenal
ATTACH;FMTTYPE=image/jpeg:https://biobridgeglobal.org/wp-content/uploads/2026/01/WEB-EVENT-2507-SANTIKOS-BUNDLE-536x200-1.jpg
GEO:29.417734;-98.497064
X-APPLE-STRUCTURED-LOCATION;VALUE=URI;X-ADDRESS=H-E-B Arsenal 646 S. Flores St. San Antonio TX 78204 United States;X-APPLE-RADIUS=500;X-TITLE=646 S. Flores St.:geo:-98.497064,29.417734
END:VEVENT
BEGIN:VEVENT
DTSTART;TZID=America/Chicago:20260716T090000
DTEND;TZID=America/Chicago:20260716T140000
DTSTAMP:20260423T000659
CREATED:20260325T160719Z
LAST-MODIFIED:20260402T180354Z
UID:31295-1784192400-1784210400@biobridgeglobal.org
SUMMARY:H-E-B Arsenal: The Stable
DESCRIPTION:
URL:https://biobridgeglobal.org/event/h-e-b-arsenal-the-stable-2/
LOCATION:H-E-B Arsenal: The Stable\, 646 S. Flores St.\, San Antonio\, TX\, 78204\, United States
CATEGORIES:Blood Drive,HEBArsenal
ATTACH;FMTTYPE=image/jpeg:https://biobridgeglobal.org/wp-content/uploads/2026/01/WEB-EVENT-2507-SANTIKOS-BUNDLE-536x200-1.jpg
END:VEVENT
BEGIN:VEVENT
DTSTART;TZID=America/Chicago:20260716T090000
DTEND;TZID=America/Chicago:20260716T140000
DTSTAMP:20260423T000659
CREATED:20260325T160719Z
LAST-MODIFIED:20260402T180502Z
UID:31296-1784192400-1784210400@biobridgeglobal.org
SUMMARY:H-E-B: Cypress Tower
DESCRIPTION:
URL:https://biobridgeglobal.org/event/h-e-b-cypress-tower-2/
LOCATION:H-E-B Cypress Tower\, 1222 N. Main\, San Antonio\, TX\, 78212\, United States
CATEGORIES:Blood Drive,HEBArsenal
ATTACH;FMTTYPE=image/jpeg:https://biobridgeglobal.org/wp-content/uploads/2026/01/WEB-EVENT-2507-SANTIKOS-BUNDLE-536x200-1.jpg
GEO:29.4403185;-98.4937788
X-APPLE-STRUCTURED-LOCATION;VALUE=URI;X-ADDRESS=H-E-B Cypress Tower 1222 N. Main San Antonio TX 78212 United States;X-APPLE-RADIUS=500;X-TITLE=1222 N. Main:geo:-98.4937788,29.4403185
END:VEVENT
BEGIN:VEVENT
DTSTART;TZID=America/Chicago:20260716T090000
DTEND;TZID=America/Chicago:20260716T140000
DTSTAMP:20260423T000659
CREATED:20260325T160719Z
LAST-MODIFIED:20260402T180546Z
UID:31297-1784192400-1784210400@biobridgeglobal.org
SUMMARY:H-E-B Support Center (Fredericksburg Rd.)
DESCRIPTION:
URL:https://biobridgeglobal.org/event/h-e-b-support-center-fredericksburg-rd-2/
LOCATION:H-E-B Support Center (Fredericksburg Rd.)\, 3483 Fredericksburg Rd. Ste 2\, San Antonio\, TX\, 78201\, United States
CATEGORIES:Blood Drive,HEBArsenal
ATTACH;FMTTYPE=image/jpeg:https://biobridgeglobal.org/wp-content/uploads/2026/01/WEB-EVENT-2507-SANTIKOS-BUNDLE-536x200-1.jpg
GEO:29.4758588;-98.5391381
X-APPLE-STRUCTURED-LOCATION;VALUE=URI;X-ADDRESS=H-E-B Support Center (Fredericksburg Rd.) 3483 Fredericksburg Rd. Ste 2 San Antonio TX 78201 United States;X-APPLE-RADIUS=500;X-TITLE=3483 Fredericksburg Rd. Ste 2:geo:-98.5391381,29.4758588
END:VEVENT
BEGIN:VEVENT
DTSTART;TZID=America/Chicago:20261104T090000
DTEND;TZID=America/Chicago:20261104T140000
DTSTAMP:20260423T000659
CREATED:20260325T160721Z
LAST-MODIFIED:20260402T180700Z
UID:31298-1793782800-1793800800@biobridgeglobal.org
SUMMARY:H-E-B Arsenal : Bloodmobile
DESCRIPTION:
URL:https://biobridgeglobal.org/event/h-e-b-arsenal-bloodmobile-3/
LOCATION:H-E-B Arsenal\, 646 S. Flores St.\, San Antonio\, TX\, 78204\, United States
CATEGORIES:Blood Drive,HEBArsenal
ATTACH;FMTTYPE=image/jpeg:https://biobridgeglobal.org/wp-content/uploads/2026/04/WEB-EVENT-2604-HEB-10-536x200-1.jpg
GEO:29.417734;-98.497064
X-APPLE-STRUCTURED-LOCATION;VALUE=URI;X-ADDRESS=H-E-B Arsenal 646 S. Flores St. San Antonio TX 78204 United States;X-APPLE-RADIUS=500;X-TITLE=646 S. Flores St.:geo:-98.497064,29.417734
END:VEVENT
BEGIN:VEVENT
DTSTART;TZID=America/Chicago:20261104T090000
DTEND;TZID=America/Chicago:20261104T140000
DTSTAMP:20260423T000659
CREATED:20260325T160721Z
LAST-MODIFIED:20260402T180720Z
UID:31299-1793782800-1793800800@biobridgeglobal.org
SUMMARY:H-E-B Arsenal: The Stable
DESCRIPTION:
URL:https://biobridgeglobal.org/event/h-e-b-arsenal-the-stable-3/
LOCATION:H-E-B Arsenal: The Stable\, 646 S. Flores St.\, San Antonio\, TX\, 78204\, United States
CATEGORIES:Blood Drive,HEBArsenal
ATTACH;FMTTYPE=image/jpeg:https://biobridgeglobal.org/wp-content/uploads/2026/04/WEB-EVENT-2604-HEB-10-536x200-1.jpg
END:VEVENT
BEGIN:VEVENT
DTSTART;TZID=America/Chicago:20261104T090000
DTEND;TZID=America/Chicago:20261104T140000
DTSTAMP:20260423T000659
CREATED:20260325T160721Z
LAST-MODIFIED:20260402T180739Z
UID:31300-1793782800-1793800800@biobridgeglobal.org
SUMMARY:H-E-B: Cypress Tower
DESCRIPTION:
URL:https://biobridgeglobal.org/event/h-e-b-cypress-tower-3/
LOCATION:H-E-B Cypress Tower\, 1222 N. Main\, San Antonio\, TX\, 78212\, United States
CATEGORIES:Blood Drive,HEBArsenal
ATTACH;FMTTYPE=image/jpeg:https://biobridgeglobal.org/wp-content/uploads/2026/04/WEB-EVENT-2604-HEB-10-536x200-1.jpg
GEO:29.4403185;-98.4937788
X-APPLE-STRUCTURED-LOCATION;VALUE=URI;X-ADDRESS=H-E-B Cypress Tower 1222 N. Main San Antonio TX 78212 United States;X-APPLE-RADIUS=500;X-TITLE=1222 N. Main:geo:-98.4937788,29.4403185
END:VEVENT
BEGIN:VEVENT
DTSTART;TZID=America/Chicago:20261104T090000
DTEND;TZID=America/Chicago:20261104T140000
DTSTAMP:20260423T000659
CREATED:20260325T160723Z
LAST-MODIFIED:20260402T180757Z
UID:31301-1793782800-1793800800@biobridgeglobal.org
SUMMARY:H-E-B Support Center (Fredericksburg Rd.)
DESCRIPTION:
URL:https://biobridgeglobal.org/event/h-e-b-support-center-fredericksburg-rd-3/
LOCATION:H-E-B Support Center (Fredericksburg Rd.)\, 3483 Fredericksburg Rd. Ste 2\, San Antonio\, TX\, 78201\, United States
CATEGORIES:Blood Drive,HEBArsenal
ATTACH;FMTTYPE=image/jpeg:https://biobridgeglobal.org/wp-content/uploads/2026/04/WEB-EVENT-2604-HEB-10-536x200-1.jpg
GEO:29.4758588;-98.5391381
X-APPLE-STRUCTURED-LOCATION;VALUE=URI;X-ADDRESS=H-E-B Support Center (Fredericksburg Rd.) 3483 Fredericksburg Rd. Ste 2 San Antonio TX 78201 United States;X-APPLE-RADIUS=500;X-TITLE=3483 Fredericksburg Rd. Ste 2:geo:-98.5391381,29.4758588
END:VEVENT
END:VCALENDAR